Workbook

Sheet Cours individuels
A1: Suivi des cours individuels
A2: Une ligne par élève — historique sur 12 cours, calcul automatique du taux d'assiduité
A4: Nom Prénom | B4: Instrument | C4: Niveau | D4: Prof | E4: C1 | F4: C2 | G4: C3 | H4: C4 | I4: C5 | J4: C6 | K4: C7 | L4: C8 | M4: Taux
A5: MOREAU Camille | B5: Violon | C5: Cycle 2 | D5: Mme Dubois | E5: ✓ | F5: ✓ | G5: A | H5: ✓ | I5: ✓ | J5: ✓ | K5: ✓ | L5: ✓ | M5: =IFERROR(COUNTIF(E5:L5,"✓")/COUNTA(E5:L5),"") -> 0.875
A6: LEROY Julien | B6: Piano | C6: Cycle 1 | D6: M. Martin | M6: =IFERROR(COUNTIF(E6:L6,"✓")/COUNTA(E6:L6),"")
A7: GIRARD Émilie | B7: Flûte | C7: Cycle 1 | D7: Mme Dubois | M7: =IFERROR(COUNTIF(E7:L7,"✓")/COUNTA(E7:L7),"")
M8: =IFERROR(COUNTIF(E8:L8,"✓")/COUNTA(E8:L8),"")
M9: =IFERROR(COUNTIF(E9:L9,"✓")/COUNTA(E9:L9),"")
M10: =IFERROR(COUNTIF(E10:L10,"✓")/COUNTA(E10:L10),"")
M11: =IFERROR(COUNTIF(E11:L11,"✓")/COUNTA(E11:L11),"")
M12: =IFERROR(COUNTIF(E12:L12,"✓")/COUNTA(E12:L12),"")
M13: =IFERROR(COUNTIF(E13:L13,"✓")/COUNTA(E13:L13),"")
M14: =IFERROR(COUNTIF(E14:L14,"✓")/COUNTA(E14:L14),"")
M15: =IFERROR(COUNTIF(E15:L15,"✓")/COUNTA(E15:L15),"")
M16: =IFERROR(COUNTIF(E16:L16,"✓")/COUNTA(E16:L16),"")
M17: =IFERROR(COUNTIF(E17:L17,"✓")/COUNTA(E17:L17),"")
M18: =IFERROR(COUNTIF(E18:L18,"✓")/COUNTA(E18:L18),"")
M19: =IFERROR(COUNTIF(E19:L19,"✓")/COUNTA(E19:L19),"")
... M29: =IFERROR(COUNTIF(E29:L29,"✓")/COUNTA(E29:L29),"")

Sheet Cours collectifs
A1: Cours collectifs — Formation musicale
A2: Suivi de groupe pour les cours collectifs (FM, solfège, harmonie...)
A4: Nom Prénom | B4: Niveau | C4: S1 | D4: S2 | E4: S3 | F4: S4 | G4: S5 | H4: S6 | I4: S7 | J4: S8 | K4: Taux
K5: =IFERROR(COUNTIF(C5:J5,"✓")/COUNTA(C5:J5),"")
K6: =IFERROR(COUNTIF(C6:J6,"✓")/COUNTA(C6:J6),"")
K7: =IFERROR(COUNTIF(C7:J7,"✓")/COUNTA(C7:J7),"")
K8: =IFERROR(COUNTIF(C8:J8,"✓")/COUNTA(C8:J8),"")
K9: =IFERROR(COUNTIF(C9:J9,"✓")/COUNTA(C9:J9),"")
K10: =IFERROR(COUNTIF(C10:J10,"✓")/COUNTA(C10:J10),"")
K11: =IFERROR(COUNTIF(C11:J11,"✓")/COUNTA(C11:J11),"")
K12: =IFERROR(COUNTIF(C12:J12,"✓")/COUNTA(C12:J12),"")
K13: =IFERROR(COUNTIF(C13:J13,"✓")/COUNTA(C13:J13),"")
K14: =IFERROR(COUNTIF(C14:J14,"✓")/COUNTA(C14:J14),"")
K15: =IFERROR(COUNTIF(C15:J15,"✓")/COUNTA(C15:J15),"")
K16: =IFERROR(COUNTIF(C16:J16,"✓")/COUNTA(C16:J16),"")
... K24: =IFERROR(COUNTIF(C24:J24,"✓")/COUNTA(C24:J24),"")

Sheet Ensembles
A1: Ensembles — Chorale, orchestre, ateliers
A2: Suivi des ensembles avec instrument/pupitre — équilibre vocal/instrumental visible
A4: Nom Prénom | B4: Pupitre/Instr. | C4: Niveau | D4: R1 | E4: R2 | F4: R3 | G4: R4 | H4: R5 | I4: R6 | J4: R7 | K4: R8 | L4: Taux
L5: =IFERROR(COUNTIF(D5:K5,"✓")/COUNTA(D5:K5),"")
L6: =IFERROR(COUNTIF(D6:K6,"✓")/COUNTA(D6:K6),"")
L7: =IFERROR(COUNTIF(D7:K7,"✓")/COUNTA(D7:K7),"")
L8: =IFERROR(COUNTIF(D8:K8,"✓")/COUNTA(D8:K8),"")
L9: =IFERROR(COUNTIF(D9:K9,"✓")/COUNTA(D9:K9),"")
L10: =IFERROR(COUNTIF(D10:K10,"✓")/COUNTA(D10:K10),"")
L11: =IFERROR(COUNTIF(D11:K11,"✓")/COUNTA(D11:K11),"")
L12: =IFERROR(COUNTIF(D12:K12,"✓")/COUNTA(D12:K12),"")
L13: =IFERROR(COUNTIF(D13:K13,"✓")/COUNTA(D13:K13),"")
L14: =IFERROR(COUNTIF(D14:K14,"✓")/COUNTA(D14:K14),"")
L15: =IFERROR(COUNTIF(D15:K15,"✓")/COUNTA(D15:K15),"")
L16: =IFERROR(COUNTIF(D16:K16,"✓")/COUNTA(D16:K16),"")
... L24: =IFERROR(COUNTIF(D24:K24,"✓")/COUNTA(D24:K24),"")

Sheet Synthèse
A1: Synthèse de l'école
A2: Vue d'ensemble pour la direction
A4: Indicateur | B4: Valeur
A5: Élèves en cours individuels | B5: =COUNTA('Cours individuels'!A5:A29) -> 3
A6: Élèves en cours collectifs | B6: =COUNTA('Cours collectifs'!A5:A24) -> 0
A7: Élèves en ensembles | B7: =COUNTA(Ensembles!A5:A24) -> 0
A8: Taux moyen cours individuels | B8: =IFERROR(AVERAGE('Cours individuels'!M5:M29),"") -> 0.875
A9: Taux moyen cours collectifs | B9: =IFERROR(AVERAGE('Cours collectifs'!K5:K24),"")
A10: Taux moyen ensembles | B10: =IFERROR(AVERAGE(Ensembles!L5:L24),"")
